BEGIN:VCALENDAR
VERSION:2.0
PRODID:-//Tukios.com/
BEGIN:VEVENT
UID:76da2719-3547-4877-abe6-50dba30ea3de@www.andersonmortuary.com
DTSTAMP:20260420T224628Z
DTSTART:20260425T180000Z
DTEND:20260425T200000Z
SUMMARY:Celebration of Life
DESCRIPTION:
URL:https://www.andersonmortuary.com/obituaries/julie-felt
LOCATION:LDS Chapel 507 W 700 N  American Fork UT 84003
GEO:40.3898965;-111.811247
END:VEVENT
END:VCALENDAR