BEGIN:VCALENDAR
VERSION:2.0
PRODID:-//Tukios.com/
BEGIN:VEVENT
UID:2614feb6-2c24-47a1-a43a-b983c283f6f9@www.andersonmortuary.com
DTSTAMP:20260420T224855Z
DTSTART:20260425T170000Z
DTEND:20260425T180000Z
SUMMARY:Graveside Service
DESCRIPTION:
URL:https://www.andersonmortuary.com/obituaries/julie-felt
LOCATION:American Fork Cemetery 600 N Center St  American Fork UT 84003
GEO:40.3890264;-111.7984835
END:VEVENT
END:VCALENDAR